BEGIN:VCALENDAR
VERSION:2.0
PRODID:-//USS Silversides Museum - ECPv6.15.18//NONSGML v1.0//EN
CALSCALE:GREGORIAN
METHOD:PUBLISH
X-WR-CALNAME:USS Silversides Museum
X-ORIGINAL-URL:https://silversidesmuseum.org
X-WR-CALDESC:Events for USS Silversides Museum
REFRESH-INTERVAL;VALUE=DURATION:PT1H
X-Robots-Tag:noindex
X-PUBLISHED-TTL:PT1H
BEGIN:VTIMEZONE
TZID:America/Detroit
BEGIN:DAYLIGHT
TZOFFSETFROM:-0500
TZOFFSETTO:-0400
TZNAME:EDT
DTSTART:20230312T070000
END:DAYLIGHT
BEGIN:STANDARD
TZOFFSETFROM:-0400
TZOFFSETTO:-0500
TZNAME:EST
DTSTART:20231105T060000
END:STANDARD
BEGIN:DAYLIGHT
TZOFFSETFROM:-0500
TZOFFSETTO:-0400
TZNAME:EDT
DTSTART:20240310T070000
END:DAYLIGHT
BEGIN:STANDARD
TZOFFSETFROM:-0400
TZOFFSETTO:-0500
TZNAME:EST
DTSTART:20241103T060000
END:STANDARD
BEGIN:DAYLIGHT
TZOFFSETFROM:-0500
TZOFFSETTO:-0400
TZNAME:EDT
DTSTART:20250309T070000
END:DAYLIGHT
BEGIN:STANDARD
TZOFFSETFROM:-0400
TZOFFSETTO:-0500
TZNAME:EST
DTSTART:20251102T060000
END:STANDARD
END:VTIMEZONE
BEGIN:VEVENT
DTSTART;TZID=America/Detroit:20240912T110000
DTEND;TZID=America/Detroit:20240912T120000
DTSTAMP:20260422T155936
CREATED:20240909T150859Z
LAST-MODIFIED:20240909T150859Z
UID:10000179-1726138800-1726142400@silversidesmuseum.org
SUMMARY:Torpedo Talks: Target Hong Kong:  A True Story of U.S. Navy Pilots at War
DESCRIPTION:  \n \nTopic: Target Hong Kong: A True Story of U.S. Navy Pilots at War by Steven K. Bailey \nVeterans\, Active Duty\, and Members FREE!Event is included with price of admission for all guests. Coffee and snacks provided!
URL:https://silversidesmuseum.org/event/torpedo-talks-target-hong-kong-a-true-story-of-u-s-navy-pilots-at-war/
LOCATION:Silversides Museum\, USS Silversides Museum\, 1346 Bluff St\, Muskegon\, MI\, 49441\, United States
CATEGORIES:Featured,Torpedo Talks
ATTACH;FMTTYPE=image/png:https://silversidesmuseum.org/wp-content/uploads/TORPEDO-TALKS-SOCIALS-Instagram-Post-4.png
END:VEVENT
BEGIN:VEVENT
DTSTART;TZID=America/Detroit:20240921T180000
DTEND;TZID=America/Detroit:20240921T220000
DTSTAMP:20260422T155936
CREATED:20240909T152230Z
LAST-MODIFIED:20240909T152230Z
UID:10000180-1726941600-1726956000@silversidesmuseum.org
SUMMARY:Victory Gala Fundraiser Engine Start
DESCRIPTION:One Victory Gala guest will have the opportunity to start the engines of USS Silversides SS236 on the night of the fundraiser! The lucky winner will be chosen by raffle. Raffle tickets for the engine start will be sold at the event only. Guests participating must be in attendance at the time of the drawing. \n  \nGet tickets to the Victory Gala Fundraiser: https://silversidesmuseum.org/victory-gala-fundraiser/
URL:https://silversidesmuseum.org/event/victory-gala-fundraiser-engine-start/
LOCATION:Silversides Museum\, USS Silversides Museum\, 1346 Bluff St\, Muskegon\, MI\, 49441\, United States
CATEGORIES:Featured,Torpedo Talks
ATTACH;FMTTYPE=image/png:https://silversidesmuseum.org/wp-content/uploads/Engine-uity-4.png
END:VEVENT
END:VCALENDAR