BEGIN:VCALENDAR
VERSION:2.0
PRODID:-//USS Silversides Museum - ECPv6.15.18//NONSGML v1.0//EN
CALSCALE:GREGORIAN
METHOD:PUBLISH
X-WR-CALNAME:USS Silversides Museum
X-ORIGINAL-URL:https://silversidesmuseum.org
X-WR-CALDESC:Events for USS Silversides Museum
REFRESH-INTERVAL;VALUE=DURATION:PT1H
X-Robots-Tag:noindex
X-PUBLISHED-TTL:PT1H
BEGIN:VTIMEZONE
TZID:America/Detroit
BEGIN:DAYLIGHT
TZOFFSETFROM:-0500
TZOFFSETTO:-0400
TZNAME:EDT
DTSTART:20240310T070000
END:DAYLIGHT
BEGIN:STANDARD
TZOFFSETFROM:-0400
TZOFFSETTO:-0500
TZNAME:EST
DTSTART:20241103T060000
END:STANDARD
BEGIN:DAYLIGHT
TZOFFSETFROM:-0500
TZOFFSETTO:-0400
TZNAME:EDT
DTSTART:20250309T070000
END:DAYLIGHT
BEGIN:STANDARD
TZOFFSETFROM:-0400
TZOFFSETTO:-0500
TZNAME:EST
DTSTART:20251102T060000
END:STANDARD
BEGIN:DAYLIGHT
TZOFFSETFROM:-0500
TZOFFSETTO:-0400
TZNAME:EDT
DTSTART:20260308T070000
END:DAYLIGHT
BEGIN:STANDARD
TZOFFSETFROM:-0400
TZOFFSETTO:-0500
TZNAME:EST
DTSTART:20261101T060000
END:STANDARD
END:VTIMEZONE
BEGIN:VEVENT
DTSTART;TZID=America/Detroit:20250214T190000
DTEND;TZID=America/Detroit:20250214T230000
DTSTAMP:20260422T075526
CREATED:20241220T203537Z
LAST-MODIFIED:20250205T182725Z
UID:10000185-1739559600-1739574000@silversidesmuseum.org
SUMMARY:The Perfect Crime: A Murder Mystery Event
DESCRIPTION:Members & Veterans: $60 \nNon Members: $75 \nStep back in time to the roaring 1920s and immerse yourself in a thrilling Prohibition-era murder mystery at the USS Silversides Submarine Museum! This captivating event\, presented by the Murder Mystery Company\, invites guests to unravel The Perfect Crime in an engaging and interactive experience. \nWhat to Expect: \n\nJoin forces with friends\, fellow guests\, and a team of skilled actors to solve a perplexing crime. With four professional actors\, immersive costumes\, light props for guests\, binders full of clues\, and top-tier sound and mic equipment\, the evening promises unforgettable fun and intrigue.\nHeld in the Channel View Room\, this event connects guests to history by incorporating Prohibition-era themes and highlighting the US Coast Guard Cutter McLane’s storied legacy.\nDon your finest 1920s attire and become part of the Prohibition-era ambiance as you step into the roles of suspects and sleuths.\n\nWhen: \n\nDate: Friday\, February 14th\nGuest Check-in: 7:00 PM\n\nProceeds from this event support the preservation of the USS Silversides and fund educational programs. By participating\, you’ll help safeguard a vital piece of history while enjoying an evening of immersive entertainment. \nMark your calendar\, gather your crew\, and prepare to solve The Perfect Crime—an evening where history\, mystery\, and fun collide! \n  \nGET TICKETS: https://silversidesmuseum.org/product/the-perfect-crime-murder-mystery-event/
URL:https://silversidesmuseum.org/event/theperfectcrime/
LOCATION:Silversides Museum\, USS Silversides Museum\, 1346 Bluff St\, Muskegon\, MI\, 49441\, United States
CATEGORIES:Featured
ATTACH;FMTTYPE=image/png:https://silversidesmuseum.org/wp-content/uploads/Murder-Mystery-Aboad-McLane-Instagram-Post-1.png
END:VEVENT
END:VCALENDAR