BEGIN:VCALENDAR
VERSION:2.0
PRODID:-//USS Silversides Museum - ECPv6.15.18//NONSGML v1.0//EN
CALSCALE:GREGORIAN
METHOD:PUBLISH
X-WR-CALNAME:USS Silversides Museum
X-ORIGINAL-URL:https://silversidesmuseum.org
X-WR-CALDESC:Events for USS Silversides Museum
REFRESH-INTERVAL;VALUE=DURATION:PT1H
X-Robots-Tag:noindex
X-PUBLISHED-TTL:PT1H
BEGIN:VTIMEZONE
TZID:America/Detroit
BEGIN:DAYLIGHT
TZOFFSETFROM:-0500
TZOFFSETTO:-0400
TZNAME:EDT
DTSTART:20230312T070000
END:DAYLIGHT
BEGIN:STANDARD
TZOFFSETFROM:-0400
TZOFFSETTO:-0500
TZNAME:EST
DTSTART:20231105T060000
END:STANDARD
BEGIN:DAYLIGHT
TZOFFSETFROM:-0500
TZOFFSETTO:-0400
TZNAME:EDT
DTSTART:20240310T070000
END:DAYLIGHT
BEGIN:STANDARD
TZOFFSETFROM:-0400
TZOFFSETTO:-0500
TZNAME:EST
DTSTART:20241103T060000
END:STANDARD
BEGIN:DAYLIGHT
TZOFFSETFROM:-0500
TZOFFSETTO:-0400
TZNAME:EDT
DTSTART:20250309T070000
END:DAYLIGHT
BEGIN:STANDARD
TZOFFSETFROM:-0400
TZOFFSETTO:-0500
TZNAME:EST
DTSTART:20251102T060000
END:STANDARD
END:VTIMEZONE
BEGIN:VEVENT
DTSTART;TZID=America/Detroit:20240307T110000
DTEND;TZID=America/Detroit:20240307T120000
DTSTAMP:20260420T052643
CREATED:20240223T170940Z
LAST-MODIFIED:20240304T151727Z
UID:10000157-1709809200-1709812800@silversidesmuseum.org
SUMMARY:Torpedo Talks: Henry Breault: Construction of a Naval Hero
DESCRIPTION:Topic: USS Silversides Henry Breault Presentation\, March 7\, 2024\, 1200 EST\nTime: Mar 7\, 2024 11:00 Eastern Time (US and Canada) \nJoin Zoom Meeting\nhttps://port-ac-uk.zoom.us/j/81352104335?pwd=dGg2RVdKZDJMdGVYTWsvN0NBaDBXdz09 \nMeeting ID: 813 5210 4335\nPasscode: 911263 \n— \nOne tap mobile\n+442034815240\,\,81352104335# United Kingdom\n+442039017895\,\,81352104335# United Kingdom \n— \nDial by your location\n• +44 203 481 5240 United Kingdom\n• +44 203 901 7895 United Kingdom\n• +44 208 080 6591 United Kingdom\n• +44 208 080 6592 United Kingdom\n• +44 330 088 5830 United Kingdom\n• +44 131 460 1196 United Kingdom\n• +44 203 481 5237 United Kingdom \nMeeting ID: 813 5210 4335 \nFind your local number: https://port-ac-uk.zoom.us/u/ksdypmt4s \n— \nJoin by SIP\n• 81352104335@zoomcrc.com \n— \nJoin by H.323\n• 162.255.37.11 (US West)\n• 162.255.36.11 (US East)\n• 115.114.131.7 (India Mumbai)\n• 115.114.115.7 (India Hyderabad)\n• 213.19.144.110 (Amsterdam Netherlands)\n• 213.244.140.110 (Germany)\n• 103.122.166.55 (Australia Sydney)\n• 103.122.167.55 (Australia Melbourne)\n• 149.137.40.110 (Singapore)\n• 64.211.144.160 (Brazil)\n• 149.137.68.253 (Mexico)\n• 69.174.57.160 (Canada Toronto)\n• 65.39.152.160 (Canada Vancouver)\n• 207.226.132.110 (Japan Tokyo)\n• 149.137.24.110 (Japan Osaka) \nMeeting ID: 813 5210 4335\nPasscode: 911263
URL:https://silversidesmuseum.org/event/torpedo-talks-henry-breault-construction-of-a-naval-hero/
LOCATION:Silversides Museum\, USS Silversides Museum\, 1346 Bluff St\, Muskegon\, MI\, 49441\, United States
CATEGORIES:Featured
ATTACH;FMTTYPE=image/png:https://silversidesmuseum.org/wp-content/uploads/Mar-7-2.png
END:VEVENT
BEGIN:VEVENT
DTSTART;TZID=America/Detroit:20240321T110000
DTEND;TZID=America/Detroit:20240321T120000
DTSTAMP:20260420T052643
CREATED:20240223T171045Z
LAST-MODIFIED:20240223T171055Z
UID:10000158-1711018800-1711022400@silversidesmuseum.org
SUMMARY:Torpedo Talks: Behind Hitler's Lines
DESCRIPTION:Active Duty\, Veterans\, and Members FREE \nIncluded in the price of admissions for all guests \nCoffee and snacks provided!
URL:https://silversidesmuseum.org/event/torpedo-talks-behind-hitlers-lines/
LOCATION:Silversides Museum\, USS Silversides Museum\, 1346 Bluff St\, Muskegon\, MI\, 49441\, United States
CATEGORIES:Featured
ATTACH;FMTTYPE=image/png:https://silversidesmuseum.org/wp-content/uploads/Mar-21_1.png
END:VEVENT
BEGIN:VEVENT
DTSTART;TZID=America/Detroit:20240328T110000
DTEND;TZID=America/Detroit:20240328T120000
DTSTAMP:20260420T052643
CREATED:20240223T171149Z
LAST-MODIFIED:20240312T180109Z
UID:10000159-1711623600-1711627200@silversidesmuseum.org
SUMMARY:Torpedo Talks: Behind Hitler's Lines Continued
DESCRIPTION:Active Duty\, Veterans\, and Members FREE \nIncluded in the price of admissions for all guests \nCoffee and snacks provided!
URL:https://silversidesmuseum.org/event/torpedo-talks-behind-hitlers-lines-continued/
LOCATION:Silversides Museum\, USS Silversides Museum\, 1346 Bluff St\, Muskegon\, MI\, 49441\, United States
CATEGORIES:Featured,Torpedo Talks
ATTACH;FMTTYPE=image/png:https://silversidesmuseum.org/wp-content/uploads/Mar-28_1.png
END:VEVENT
END:VCALENDAR